BEGIN:VCALENDAR
VERSION:2.0
PRODID:-//Sierra Highlanders Pipe Band - ECPv6.15.11//NONSGML v1.0//EN
CALSCALE:GREGORIAN
METHOD:PUBLISH
X-WR-CALNAME:Sierra Highlanders Pipe Band
X-ORIGINAL-URL:https://www.sierrahighlanderspipeband.net
X-WR-CALDESC:Events for Sierra Highlanders Pipe Band
REFRESH-INTERVAL;VALUE=DURATION:PT1H
X-Robots-Tag:noindex
X-PUBLISHED-TTL:PT1H
BEGIN:VTIMEZONE
TZID:America/Los_Angeles
BEGIN:DAYLIGHT
TZOFFSETFROM:-0800
TZOFFSETTO:-0700
TZNAME:PDT
DTSTART:20240310T100000
END:DAYLIGHT
BEGIN:STANDARD
TZOFFSETFROM:-0700
TZOFFSETTO:-0800
TZNAME:PST
DTSTART:20241103T090000
END:STANDARD
BEGIN:DAYLIGHT
TZOFFSETFROM:-0800
TZOFFSETTO:-0700
TZNAME:PDT
DTSTART:20250309T100000
END:DAYLIGHT
BEGIN:STANDARD
TZOFFSETFROM:-0700
TZOFFSETTO:-0800
TZNAME:PST
DTSTART:20251102T090000
END:STANDARD
BEGIN:DAYLIGHT
TZOFFSETFROM:-0800
TZOFFSETTO:-0700
TZNAME:PDT
DTSTART:20260308T100000
END:DAYLIGHT
BEGIN:STANDARD
TZOFFSETFROM:-0700
TZOFFSETTO:-0800
TZNAME:PST
DTSTART:20261101T090000
END:STANDARD
END:VTIMEZONE
BEGIN:VEVENT
DTSTART;TZID=America/Los_Angeles:20250121T063000
DTEND;TZID=America/Los_Angeles:20250121T210000
DTSTAMP:20260421T015629
CREATED:20250119T205821Z
LAST-MODIFIED:20250119T205821Z
UID:887-1737441000-1737493200@www.sierrahighlanderspipeband.net
SUMMARY:Band Practice/ Rehearsal
DESCRIPTION:Student learning/ practice time is either from 6:00 – 6:30 or 6:30 – 7:00.  Check in with your bagpipe/ drum instructor for the exact time of your lesson.  New students or anyone wanting to meet the band and check us out\, please contact the band president\, John LoGiurato at jdlogiurato@gmail.com to confirm band practice dates and times.
URL:https://www.sierrahighlanderspipeband.net/event/band-practice-rehearsal/
LOCATION:St. John’s Presbyterian Church\, 1070 W. Plumb Ln.\, Reno\, NV\, 89501\, United States
END:VEVENT
BEGIN:VEVENT
DTSTART;TZID=America/Los_Angeles:20250125T160000
DTEND;TZID=America/Los_Angeles:20250125T210000
DTSTAMP:20260421T015629
CREATED:20250114T180814Z
LAST-MODIFIED:20250114T180814Z
UID:870-1737820800-1737838800@www.sierrahighlanderspipeband.net
SUMMARY:Robert Burns Dinner
DESCRIPTION:
URL:https://www.sierrahighlanderspipeband.net/event/robert-burns-dinner/
LOCATION:Grand Sierra Resort\, 2500 E. 2nd St.\, Reno\, NV\, 89501\, United States
END:VEVENT
END:VCALENDAR