BEGIN:VCALENDAR
VERSION:2.0
PRODID:-//Sierra Highlanders Pipe Band - ECPv6.15.11//NONSGML v1.0//EN
CALSCALE:GREGORIAN
METHOD:PUBLISH
X-ORIGINAL-URL:https://www.sierrahighlanderspipeband.net
X-WR-CALDESC:Events for Sierra Highlanders Pipe Band
REFRESH-INTERVAL;VALUE=DURATION:PT1H
X-Robots-Tag:noindex
X-PUBLISHED-TTL:PT1H
BEGIN:VTIMEZONE
TZID:America/Los_Angeles
BEGIN:DAYLIGHT
TZOFFSETFROM:-0800
TZOFFSETTO:-0700
TZNAME:PDT
DTSTART:20250309T100000
END:DAYLIGHT
BEGIN:STANDARD
TZOFFSETFROM:-0700
TZOFFSETTO:-0800
TZNAME:PST
DTSTART:20251102T090000
END:STANDARD
BEGIN:DAYLIGHT
TZOFFSETFROM:-0800
TZOFFSETTO:-0700
TZNAME:PDT
DTSTART:20260308T100000
END:DAYLIGHT
BEGIN:STANDARD
TZOFFSETFROM:-0700
TZOFFSETTO:-0800
TZNAME:PST
DTSTART:20261101T090000
END:STANDARD
BEGIN:DAYLIGHT
TZOFFSETFROM:-0800
TZOFFSETTO:-0700
TZNAME:PDT
DTSTART:20270314T100000
END:DAYLIGHT
BEGIN:STANDARD
TZOFFSETFROM:-0700
TZOFFSETTO:-0800
TZNAME:PST
DTSTART:20271107T090000
END:STANDARD
END:VTIMEZONE
BEGIN:VEVENT
DTSTART;TZID=America/Los_Angeles:20260425T180000
DTEND;TZID=America/Los_Angeles:20260425T203000
DTSTAMP:20260422T202232
CREATED:20260404T010803Z
LAST-MODIFIED:20260404T010803Z
UID:1020-1777140000-1777149000@www.sierrahighlanderspipeband.net
SUMMARY:Fallen Officers Event
DESCRIPTION:Private Fallen Officers Event
URL:https://www.sierrahighlanderspipeband.net/event/fallen-officers-event/
LOCATION:Grand Sierra Resort\, 2500 E. 2nd St.\, Reno\, NV\, 89501\, United States
END:VEVENT
END:VCALENDAR